BEGIN:VCALENDAR
VERSION:2.0
PRODID:-//ChamberMaster//Event Calendar 2.0//EN
METHOD:PUBLISH
X-PUBLISHED-TTL:P3D
REFRESH-INTERVAL:P3D
CALSCALE:GREGORIAN
BEGIN:VEVENT
DTSTART;VALUE=DATE:20260521
DTEND;VALUE=DATE:20260524
TRANSP:TRANSPARENT
X-MICROSOFT-CDO-ALLDAYEVENT:TRUE
SUMMARY:Universal Martial Arts Hall of Fame 2026
DESCRIPTION:Join us for the 31st Annual Universal Martial Arts Hall of Fame at the beautiful Embassy Suites by Hilton in San Marcos!\n\nThis year marks an exciting new chapter in our organization's history as we proudly enter our fourth decade with a bold\, fresh logo and a renewed vision for the future. This legendary event continues to unite martial artists from across the country and around the world!\n\nFor over three decades\, thousands of dedicated practitioners have been honored at the Universal Martial Arts Hall of Fame   and now it's your time to step into the spotlight!\n\nInductees will receive a stunning 10-pound championship belt and a magnificent Hall of Fame ring\, both proudly featuring our dynamic new logo.\n\nOur powerhouse lineup of seminars delivers exceptional value with world-class instruction from the industry's top leaders. The electrifying spectacle matches are guaranteed to be worth every penny of admission. The elegant banquet will beautifully celebrate your lifelong dedication and achievements as a martial artist. And the grand finale championship gives students the thrilling opportunity to showcase their skills and test their mettle in front of an audience of living legends!\n\n\n\nThe Universal Martial Arts Hall of Fame is currently looking for select business sponsors.  If you are interested\, please contact Professor Silverio Guerra at (345) 289-6705.
X-ALT-DESC;FMTTYPE=text/html:<p>Join us for the 31st Annual Universal Martial Arts Hall of Fame at the beautiful Embassy Suites by Hilton in San Marcos!</p>\n\n<p>This year marks an exciting new chapter in our organization&rsquo\;s history as we proudly enter our fourth decade with a bold\, fresh logo and a renewed vision for the future. This legendary event continues to unite martial artists from across the country and around the world!</p>\n\n<p>For over three decades\, thousands of dedicated practitioners have been honored at the Universal Martial Arts Hall of Fame &mdash\; and now it&rsquo\;s your time to step into the spotlight!</p>\n\n<p>Inductees will receive a stunning 10-pound championship belt and a magnificent Hall of Fame ring\, both proudly featuring our dynamic new logo.</p>\n\n<p>Our powerhouse lineup of seminars delivers exceptional value with world-class instruction from the industry&rsquo\;s top leaders. The electrifying spectacle matches are guaranteed to be worth every penny of admission. The elegant banquet will beautifully celebrate your lifelong dedication and achievements as a martial artist. And the grand finale championship gives students the thrilling opportunity to showcase their skills and test their mettle in front of an audience of living legends!<br />\n<br />\n<strong>The Universal Martial Arts Hall of Fame is currently looking for select business sponsors.&nbsp\; If you are interested\, please contact Professor Silverio Guerra at (345) 289-6705.</strong></p>\n
LOCATION:The Universal Martial Arts Hall of Fame will be held right in our backyard at the beautiful Embassy Suites by Hilton!
UID:e.2036.25679
SEQUENCE:3
DTSTAMP:20260421T172523Z
URL:http://business.kylechamber.org/events/details/universal-martial-arts-hall-of-fame-2026-25679
END:VEVENT

END:VCALENDAR
